Workbook

Sheet Syfers
A1: 2026/27 : SALARIS : Amptenaar
C2: Kies opsie of tik in waarde langsaan | E2: Nota
A3: Mnd datum | B3: 46112 | C3: ß
A5: WERKGEWER: | C5: << Tik in
A6: NAAM: | C6: << Tik in
A7: GEBORE: | C7: << Tik in | D7: =ROUNDDOWN(YEARFRAC(B3,$B$7),0) -> 126 | E7: Ouderdom vir Ongeskiktheidsvoordeel
A9: AFTREEFONDS: | B9: Nie-goedgekeurde polisse deel van (ingesluit by) Werkgewerbydrae tot Aftreefonds | D9: Bedrag pm
B10: Ongeskiktheidsdekking | C10: << Tik in >> | D10: =+D25*G10 -> 0 | E10: Soos deur aftreefonds voorgeskryf | G10: 0.01001
B11: Risikodekking | C11: << Tik in >>
B12: Ander | C12: << Tik in >> | D12: 0
D13: =SUM(D10:D12) -> 0
D15: Bedrag pm
A16: MEDIES: | B16: Premie- en lidinligting beskikbaar by mediese kantoor | E16: Verhoog gewoonlik Januarie elke jaar
B17: Volle bedrae vir oorbt aan mediese fonds? | E17: WG vaste bydraes
B18: Premie alleenlik (sonder Admed en Vitality) | C18: Tik in >>
B19: Admed versekering | C19: Tik in >>
B20: Vitality (indien van toepassing) | C20: Tik in >>
D21: =SUM(D18:D20) -> 0
B22: Aantal lede (hooflid ingesluit) op medies | C22: Tik in >>
A24: INKOMSTE: | D24: Per maand
A25: SAL | B25: BASIESE SALARIS | C25: Tik in >>
A26: BON/13e tjek | B26: BONUS | C26: NEE | D26: =IF(C26="JA (1xpj)",D25/12,IF(C26="JA (per mnd)",D25/12,IF(C26="NEE",0,IF(C26="Eie Bedrag",E26)))) -> 0 | F26: pm. [Bonus "1xpj" = Basiese salaris ÷ 12 (belas pm)] | G26: =IF(C26="JA (per mnd)",D26,0) -> 0 | H26: = pm vir payslip
A27: HUIS | B27: GEEN | C27: << KIES | D27: =IF(B27="GRATIS HUIS","Byvoordeelbelasting",IF(B27="GEEN",0,IF(B27="HUISTOELAE",E27))) -> 0
A28: REIS | B28: VOERTUIG- EN VERVOERTOELAE | C28: << KIES | D28: =IF(B28="VOERTUIG- EN VERVOERTOELAE",E28,IF(B28="WERKSMOTOR VIR PRIVAAT & WERK","Byvoordeelbelasting",IF(B28="GEEN",0))) -> 0
A29: TOELAE | B29: Ander toelaag | C29: << Tik in >>
C30: * | D30: =SUM(D25:D29) -> 0
A31: WERKGEWERBYDRAES: | D31: Per maand
A32: PENS | B32: WG: PENSIOEN Bydrae | C32: Tik in >>
A33: VOORS | B33: WG: VOORSORG Bydrae | C33: Tik in >> | D33: =+D25*G33 -> 0 | G33: 0.1246
A34: GROEP | B34: WG: PENSIOEN/VOORS Sterftedekking/groepvers. | C34: Tik in >> | D34: =+D25*G34 -> 0 | G34: 0.0022
A35: MED | B35: WG: MEDIES Premie | C35: VAS | D35: =+E18 -> 0
A36: MADM | B36: WG: MEDIES Admed | C36: VAS | D36: =+E19 -> 0
A37: MVIT | B37: WG: MEDIES Vitality | C37: VAS | D37: =+E20 -> 0
C38: * | D38: =SUM(D32:D37) -> 0
A40: PERSOONLIKE belasting AFTREKBARE ITEMS | D40: Per maand
A41: ANN-P | B41: Persoonlike ANNUITEIT | C41: << Tik in >>
A43: WERKENEMER (LID) BYDRAES (uitg ander aftrekkings): | D43: Per maand
A44: PENS | B44: Lid: PENSIOEN Bydrae | C44: Tik in >>
A45: PENS | B45: Lid: PENSIOEN Addisionele Bydrae | C45: Tik in >>
A46: VOORS | B46: Lid: VOORSORG Bydrae | C46: Tik in >> | D46: =+D25*G46 -> 0 | G46: 0.0812
...

Sheet Behuising-tax
A1: RESIDENSIËLE HUISVESTING: AS GEMEENTE HUIS VOORSIEN = BYVOORDEEL (word by belasbare inkomste gevoeg)
A3: Volle besoldiging beteken: die syfers wat gebruik word om by LBS uit te kom VOOR toelaatbare aftrekkings, bv pensioen
A4: [Sien ook definisies onderaan die tabel]
A6: Betekenis van die voordeel:
A7: Residensiële huisvesting deur 'n werkgewer aan 'n werknemer verskaf teen'n lae of geen huur nie,sal geag word 'n belasbare voordeel te wees.
A9: Formule vir die byvoordeelbedrag
A10: (A - B) x C/100 x D/12
A12: A = | B12: Volle besoldiging deur die werknemer gegenereer gedurende die jaar van aanslag wat die huidige jaar van aanslag waarin die
B13: huisvestingvoordeel toegeken word, voorafgaan. Of Die eerste maand van indiensneming (geannualiseerd), indien die | E13: Volle besoldiging
B14: persoon nie die vorige jaar in diens van die werkgewer was nie. | E14: van vorige jaar / maand x 12
B15: [Besoldiging soos per Vierde Skedule van die Inkomstebelastingwet] | D15: Tik in >>
B17: Uitgesluit: | D17: Tik in, indien ingesluit hierbo æ | E17: [jaarsyfer]
C18: Die belasbare voordeel vir huisvesting [dit word afgetrek vir 'A' se berekening] | D18: huis byvoordeel
D20: A = | E20: =+E15-E18 -> 0
A22: B = | B22: Rxxxxx korting = 20../.. (hierdie syfer is altyd gelyk aan die huidige jaar se Primêre belastingdrempel/"threshold") | D22: B = | E22: =+Belastingtabel!G13 -> 99000
A24: C = | B24: 17: | C24: minder as vier vertrekke | D24: Kies % (links) | E24: Tik in â
B25: 18: | C25: indien die eindom uit 'n huis/woonstel/wooneenheid van minstens vier vertrekke bestaan en die huisvesting | D25: C = | E25: 0.18
C26: ongemeubileerd is en krag/brandstof deur die werkgewer verskaf word,
B27: 18: | C27: of sodanige huisvesting gemeubileerd is maar geen krag/brandstof word deur ddie werkgewer veskaf nie. Of
B28: 19: | C28: waar die huisvesting uit 'n huis/woonstel/wooneenheid van minstens vier vertrekke bestaan en sodanige
C29: huisvesting is gemeubileerd EN die werkgewer voorsien krag/brandstof.
D30: Aantal mnd'e vir j | E30: Tik in â
A31: D = | B31: aantal maande gedurende die jaar van aanslag waarop die werknemer op sodanige huisvesting geregtig was/is. | D31: D = | E31: 12
A33: [Onthou hierdie syfer verteenwoordig die jaarsyfer- vir maand se belasting, bereken maandsyfer] | D33: Jaarsyfer | E33: =(E20-E22)*E25*E31/12 -> -17820
C34: [Maandsyfer: Gedeel deur aantal maande van jaar waarop geregtig] | D34: Maandsyfer | E34: =IF(E33/E31>=0,E33/E31,0) -> 0
A35: Indien huurgeld OOK betaal is | E35: Tik in â
C36: “The value of the taxable benefit in respect of residential accommodation must be the determined rental value less any consideration paid by the employee”. Dus: Die formule se finale waarde minus die huurgeld pm wat betaal word. | D36: Huurgeld betaal per maand | E36: 10 | F36: Positiewe syfer (nie minus nie). Formule trek self af.
C37: = | D37: Maandsyfer | E37: =IF(E34-E36>=0,E34-E36,0) -> 0
E38: Indien < 0, dan R0

Sheet Werksmotor-tax
A1: REG VAN GEBRUIK VAN MOTOR: WERKSMOTOR OOK VIR PRIVAATGEBRUIK (word by belasbare inkomste gevoeg)
A3: [Belasbare inkomste beteken die syfers wat gebruik word om by die LBS uit te kom. Dit vorm nie deel van werklike inkomste nie.]
A5: n Belasbare byvoordeel onstaan wanneer 'n werknemer die reg van gebruik van die werskmotor toegestaan word.
A6: Privaatgebruik sluit reis tussen die werknemer se huisvesting en sy werk, sowel as ander private gebruik in.
A8: DIE 'WAARDE' VAN DIE MOTORVOERTUIG:
A9: - | B9: Die koste van die voertuig vir die werkgewer, uitgesluit finansieringskoste en rente, maar INGESLUIT: BTW en die waarde van enige
B10: onderhoudsplan indien die voertuig d.m.v. 'n verkoopsooreenkoms bekom was;
A11: of
A12: - | B12: Die handelsmarkwaarde, maar INGESLUIT: BTW en die waarde van enige onderhoudsplan, soos op die datum wanneer die werknemer
B13: die eerste keer gebruik van die voertuig verleen is, indien die voertuig d.m.v. 'n verkoopsooreenkoms bekom was;
A14: of
A15: - | B15: In enige ander geval, die markwaarde van die voertuig, INGESLUIT: BTW en die waarde van enige onderhoudsplan, soos op die datum
B16: wanneer die werknemer die eerste keer gebruik van die voertuig verleen is.
B18: Onderhoudsplan: Dit word gedefinieer as 'n kontraktuele verpligting wat deur die verskaffer onderneem word om die kostes van
B19: alle onderhoud van die motorvoertuig te onderskryf. Dit sluit nie die kostes vir vloeistowwe, bande of misbruik van die voertuig in nie.
B20: Die verpligting is vir ten minste 3 jaar en 60 000 km vanaf die datum van die onderskrywing en mag getermineer word wanneer die
B21: verpligtinge nagekom is.
B23: Waardevermindering van 15% word toegelaan vir elke afgehandelde 12 maande periode vanaf die datum wanneer die werkgewer
B24: die voertuig aangeskaf het of begin gebruik het, tot die datum wanneer die werknemer gebruik van die voertuig verleen is.
B25: [Dit beteken dat 'n werknemer wat die gebruik van die voertuig gehad het, toe gestop het om dit te gebruik en weer later dit
B26: gebruik het, moet belas word op die 'waarde' van die voertuig wat die eerste keer bereken was en dit is dan nie meer geregtig op
B27: verdere waardevermindering nie.]
A29: Die BYVOORDEEL WAARDE op die privaatgebruik van die motorvoertuig vir elke maand of deel van 'n maand waarop die | D29: Tik in â
A30: werknemer geregtig was tot privaatgebruik, is: | C30: Waarde:
A32: - | B32: 3.5% van die 'waarde' van die motorvoertuig | D32: Tik in â
A33: of | C33: Kies % (links) | D33: 0.026
A34: - | B34: 3.25% van die 'waarde' indien die 'waarde' die onderhoudsplan insluit.
C35: Uitgawes p.m. | D35: Tik in â
B36: MINUS enige uitgawes wat deur die werknemer onderneem word m.b.t. die voertuig, | C36: [Sien links]
B37: uitgesluit: lisensiegelde, versekering, onderhoud en brandstof
B38: = | C38: Maandsyfer | D38: =(D30*D33)-D36 -> 0
A40: Vir 'n individue om 'n vermindering in die byvoordeelwaarde te eis t.o.v. lisensiegelde, versekering, onderhoud en brandstof, is dit nodig om 'n
A41: ritboek (logbook) by te hou. Hierdie eise kan slegs met individuele aanslag gedoen word.
A43: GEEN WAARDE word geplaas op privaatgebruik van die werkgewer se voertuig indien:
A44: - | B44: Die voertuig 'n poel-motor is vir gebruik deur alle werknemers in die algemeen en die privaatgebruik is ongereeld of toevallig en die voertuig
B45: word nie normaalwerg by of naby die huisvestig van die werknemer gestoor nie.
A46: - | B46: Die werknemer se pligte vereis dat die voertuig gereeld buite normale werksure gebruik word en die privaatgebruik is ongereeld of toevallig
B47: tot die besigheidsgebruik.

Sheet Belasting
A1: BELASTINGBEREKENING p.m.
A3: NAAM: | B3: =VLOOKUP(A3,Syfers!A5:D71,2,FALSE) -> 0
E4: Berekening | F4: IRP5-kode | G4: Nota
A5: BELASBARE INKOMSTE | C5: Primêre Syfers
B6: BASIESE SALARIS | C6: =VLOOKUP(B6,Syfers!$B$5:$D$72,3,FALSE) -> 0 | E6: =+C6 -> 0 | F6: 3601
B7: BONUS | C7: =VLOOKUP(B7,Syfers!$B$5:$D$72,3,FALSE) -> 0 | E7: =+C7 -> 0 | F7: 3601 | G7: 1 xpj belas #3605
B8: HUISTOELAE | C8: =IFERROR(VLOOKUP(B8,Syfers!$B$5:$D$72,3,FALSE),0) -> 0 | E8: =IFERROR(C8,0) -> 0 | F8: 3601
A9: 0.8 | B9: VOERTUIG- EN VERVOERTOELAE | C9: =IFERROR(VLOOKUP(B9,Syfers!$B$5:$D$72,3,FALSE),0) -> 0 | E9: =IFERROR(C9,0)*A9 -> 0 | F9: 3701 | G9: LW: Volle bedrag (primêr) vir IRP5 doeleindes
B10: TOELAE | C10: =VLOOKUP(B10,Syfers!$A$5:$D$72,4,FALSE) -> 0 | E10: =+C10 -> 0 | F10: 3713
E11: =SUM(E6:E10) -> 0
A12: Plus: BYVOORDELE
B13: GRATIS HUIS | C13: =IFERROR(VLOOKUP(B13,Syfers!$B$5:$D$72,3,FALSE),0) -> 0 | E13: =IFERROR(IF(C13="Byvoordeelbelasting",'Behuising-tax'!E37,0),0) -> 0 | F13: 3805
B14: WERKSMOTOR VIR PRIVAAT & WERK | C14: =IFERROR(VLOOKUP(B14,Syfers!$B$5:$D$72,3,FALSE),0) -> 0 | E14: =IFERROR(IF(C14="Byvoordeelbelasting",'Werksmotor-tax'!D38,0),0) -> 0 | F14: 3802
E15: =SUM(E11:E14) -> 0
A16: Plus: BYVOORDELE: WERKGEWERBYDRAES
B17: WG: PENSIOEN Bydrae | C17: =VLOOKUP(B17,Syfers!$B$5:$D$72,3,FALSE) -> 0 | E17: =IF(C17=0,0,C17-C23) -> 0 | F17: 3817 + 4472 | G17: Slegs goedgekeurde/werklike pensioenfondsbydrae deel (WG min nie-goedgekeurde polisse)
B18: WG: VOORSORG Bydrae | C18: =VLOOKUP(B18,Syfers!$B$5:$D$72,3,FALSE) -> 0 | E18: =IF(C18=0,0,C18-C23) -> 0 | F18: 3825 + 4473 | G18: Slegs goedgekeurde/werklike pensioenfondsbydrae deel (WG min nie-goedgekeurde polisse)
B19: WG: PENSIOEN/VOORS Sterftedekking/groepvers. | C19: =VLOOKUP(B19,Syfers!$B$5:$D$72,3,FALSE) -> 0 | E19: =+C19 -> 0 | F19: 3801
B20: WG: MEDIES Premie | C20: =VLOOKUP(B20,Syfers!$B$5:$D$72,3,FALSE) -> 0 | E20: =+C20 -> 0 | F20: 3810 + 4474
B21: WG: MEDIES Admed | C21: =VLOOKUP(B21,Syfers!$B$5:$D$72,3,FALSE) -> 0 | E21: =+C21 -> 0 | F21: 3801
B22: WG: MEDIES Vitality | C22: =VLOOKUP(B22,Syfers!$B$5:$D$72,3,FALSE) -> 0 | E22: =+C22 -> 0 | F22: 3801
B23: WG: Nie goedgekeurde 'pensioen' polisse | C23: =+Syfers!D13 -> 0 | E23: =+C23 -> 0 | F23: 3801
E24: =SUM(E15:E23) -> 0 | G24: = Bruto besoldiging (belasbare inkomste voor belastingaftrekbare aftrekkings)
A25: Min: BELASTINGAFTREKBARE ITEMS
B26: WG: PENSIOEN Bydrae | C26: =+E17 -> 0 | E26: =-IF(C35>C34,C34,C35) -> 0 | F26: 4001
B27: Lid: PENSIOEN Bydrae | C27: =VLOOKUP(B27,Syfers!$B$5:$D$72,3,FALSE) -> 0 | F27: 4001
B28: Lid: PENSIOEN Addisionele Bydrae | C28: =VLOOKUP(B28,Syfers!$B$5:$D$72,3,FALSE) -> 0 | F28: 4001 | G28: Slegs goedgekeurde/werklike pensioenfondsbydrae deel (WG min nie-goedgekeurde polisse)
B29: WG: VOORSORG Bydrae | C29: =+E18 -> 0 | F29: 4003 | G29: Toon primêre syfers by IRP5
B30: Lid: VOORSORG Bydrae | C30: =VLOOKUP(B30,Syfers!$B$5:$D$72,3,FALSE) -> 0
B31: Lid: VOORSORG Addisionele Bydrae | C31: =VLOOKUP(B31,Syfers!$B$5:$D$72,3,FALSE) -> 0
B32: Persoonlike ANNUITEIT | C32: =IFERROR(VLOOKUP(B32,Syfers!$B$6:$D$82,3,FALSE),0) -> 0 | F32: 4006
B33: Lid: ANNUÏTEIT | C33: =VLOOKUP(B33,Syfers!$B$5:$D$72,3,FALSE) -> 0 | F33: 4006
B34: Totale Aftreefondsbydraes | C34: =SUM(C26:C33) -> 0
B35: Bruto besoldiging x limit % | C35: =(E24)*D35 -> 0 | D35: 0.275 | G35: Belastingaftrekbare limiet
C37: BELASBARE BEDRAG p.m: | E37: =SUM(E24:E33) -> 0
E38: x12
C39: BELASBARE BEDRAG p.j.: | E39: =+E37*12 -> 0
C41: BELASTING VIR JAAR volgens tabel: | E41: =+Belastingtabel!E27 -> #N/A
C42: MEDIESE BELASTINGKREDIETE vir jaar: | E42: =-Belastingtabel!E43 -> 0
C43: = BELATING VIR JAAR na mediese krediete | E43: =SUM(E41:E42) -> #N/A
...

Sheet Belastingtabel
A1: 2026-27 BELASTINGTABEL
A2: [01/03/2026 tot 28/02/2027]
A4: BELASBARE INKOMSTE | D4: VASTE BEDRAG | E4: PERSENTASIE
A5: 0 | B5: - | C5: 245100 | D5: 0 | E5: 0.18 | F5: van elke Rand
A6: =+C5+1 -> 245101 | B6: - | C6: 383100 | D6: 44118 | E6: 0.26 | F6: van die bedrag bo | G6: =+C5 -> 245100
A7: =+C6+1 -> 383101 | B7: - | C7: 530200 | D7: 79998 | E7: 0.31 | F7: van die bedrag bo | G7: =+C6 -> 383100
A8: =+C7+1 -> 530201 | B8: - | C8: 695800 | D8: 125599 | E8: 0.36 | F8: van die bedrag bo | G8: =+C7 -> 530200
A9: =+C8+1 -> 695801 | B9: - | C9: 887000 | D9: 185215 | E9: 0.39 | F9: van die bedrag bo | G9: =+C8 -> 695800
A10: =+C9+1 -> 887001 | C10: 1878600 | D10: 259783 | E10: 0.41 | F10: van die bedrag bo | G10: =+C9 -> 887000
A11: =+C10+1 -> 1878601 | B11: - | C11: > | D11: 666339 | E11: 0.45 | F11: van die bedrag bo | G11: =+C10 -> 1878600
B13: Primêre korting | C13: 0 | D13: -17820 | F13: Belasting drempel vir onder 65 | G13: 99000
B14: Add'e korting (65 en bo) | C14: 65 | D14: -9765 | F14: Belasting drempel vir 65 en op | G14: 153250
B15: Add'e korting (75 en bo) | C15: 75 | D15: -3249 | F15: Belasting drempel vir 75 en op | G15: 171300
A17: GEBRUIK VAN BELASTINGTABEL
A19: Totale belasbare bedrag vir jaar | E19: =+Belasting!E39 -> 0
A20: Pas dit in "bracket" van belastingtabel - en gebruik daardie lyntjie vir verdere berekenings
A22: Vaste bedrag per "bracket" | E22: =IF($E$19>A11,D11,IF($E$19>A10,D10,IF($E$19>A9,D9,IF($E$19>A8,D8,IF($E$19>A7,D7,IF($E$19>A6,D6,IF($E$19>A5,D5))))))) -> FALSE
A23: Plus: xx % volgens "bracket" x (Bedrag oor …)
C24: =VLOOKUP(E22,D5:E11,2) -> #N/A | D24: =VLOOKUP(C24,E5:G11,3) -> #N/A | E24: =(E19-D24)*C24 -> #N/A | F24: [Bedrag oor = Bedrag gegee na % in "bracket" minus Rxxx a]
E25: =SUM(E22:E24) -> #N/A
A26: Min: Korting volgens tabel | D26: =ROUNDDOWN(YEARFRAC(G26,Syfers!B7),0) -> 127 | E26: =IF($D$26>=C15,D13+D14+D15,IF($D$26>=C14,D13+D14,IF($D$26>=C13,D13))) -> -30834 | G26: 46446
A27: = Belasting pj | E27: =SUM(E25:E26) -> #N/A
A30: MEDIESE KREDIETE (KORTING) - Persone 65j+ kry nog meer korting (nie hier ingewerk nie)
C32: Hooflid | D32: 376 | E32: p.m. vir elk
C33: Eerste afhanklike | D33: 376 | E33: p.m. vir elk
C34: Elke add'e afhanklike | D34: 254 | E34: p.m. vir elk
A36: Na belasting bereken is, word die KREDIETE afgetrek van belasting self
D38: Aantal lede
A39: Bereken belasting krediete (kortings) | D39: =+Syfers!D22 -> 0
A40: - Vir eerste 2 lede elk | D40: =IF(D39>=2,2,D39) -> 0 | E40: =+D40*D32 -> 0
A41: - Vir res van lede elk | D41: =IF((D39-D40)<0,0,(D39-D40)) -> 0 | E41: =+D41*D34 -> 0
D42: =SUM(D40:D41) -> 0 | E42: =SUM(E40:E41) -> 0 | F42: p.m.
E43: =+E42*12 -> 0 | F43: p.j.
A45: Indien die belasting van die persoon (voor hierdie korting in ag geneem word), minder is as die mediese korting
A46: vir die maand, word die oorskot oorgedra na die volgende maand.
A47: [Die persoon se belasting behoort dan R0-00 te wees vir die maand.]
A49: Elke maand se oorskot word by die vorige oorskotte getel en gebruik teen belasting, indien nodig.
A50: Indien die totale oorskot vir die belastingjaar nie opgebruik is, nie, verval dit. Dit dra nie oor na die volgende belastingjaar nie.

Sheet Payslip
A1: =CONCATENATE("SALARIS BETALINGSBEWYS van ",+Syfers!B5) -> SALARIS BETALINGSBEWYS van
A3: WERKNEMER: | I3: PERIODE:
A4: =+Syfers!B6 -> 0
A8: WERKGEWERBYDRAES | F8: ANDER/ADDISIONELE INLIGTING/NOTA
B9: WVF | D9: =Belasting!E48 -> 0
B10: WG: PENSIOEN Bydrae | D10: =VLOOKUP(B10,Syfers!$B$5:$D$73,3,FALSE) -> 0 | G10: NB : Vrygewaar teen enige weglatings
B11: WG: VOORSORG Bydrae | D11: =VLOOKUP(B11,Syfers!$B$5:$D$66,3,FALSE) -> 0 | G11: en foute
B12: WG: PENSIOEN/VOORS Sterftedekking/groepvers. | D12: =VLOOKUP(B12,Syfers!$B$5:$D$66,3,FALSE) -> 0
B13: WG: MEDIES Premie | D13: =VLOOKUP(B13,Syfers!$B$5:$D$66,3,FALSE) -> 0
B14: WG: MEDIES Admed | D14: =VLOOKUP(B14,Syfers!$B$5:$D$66,3,FALSE) -> 0
B15: WG: MEDIES Vitality | D15: =VLOOKUP(B15,Syfers!$B$5:$D$66,3,FALSE) -> 0
B16: Add WVF op bonus
B17: Totale Werkgewerbydraes | D17: =SUM(D9:D16) -> 0
A19: ONTVANGSTES | F19: AFTREKKINGS
B20: BASIESE SALARIS | D20: =VLOOKUP(B20,Syfers!$B$5:$D$66,3,FALSE) -> 0 | G20: Belasting (LBS) | I20: =IFERROR(+Belasting!E45,0) -> 0
B21: BONUS | C21: Per maand | D21: =VLOOKUP(B21,Syfers!$B$5:$G$66,6,FALSE) -> 0 | G21: WVF | I21: =+D9 -> 0
B22: BONUS JAARLIKS (reeds pm belas) | G22: Lid: PENSIOEN Bydrae | I22: =VLOOKUP(G22,Syfers!$B$5:$D$66,3,FALSE) -> 0
B23: HUISTOELAE | D23: =IFERROR(VLOOKUP(B23,Syfers!$B$5:$D$66,3,FALSE),0) -> 0 | G23: Lid: PENSIOEN Addisionele Bydrae | I23: =VLOOKUP(G23,Syfers!$B$5:$D$66,3,FALSE) -> 0
B24: VOERTUIG- EN VERVOERTOELAE | D24: =IFERROR(VLOOKUP(B24,Syfers!$B$5:$D$66,3,FALSE),0) -> 0 | G24: Lid: VOORSORG Bydrae | I24: =VLOOKUP(G24,Syfers!$B$5:$D$66,3,FALSE) -> 0
B25: =+Syfers!B29 -> Ander toelaag | D25: =IFERROR(VLOOKUP(B25,Syfers!$B$5:$D$66,3,FALSE),0) -> 0 | G25: Lid: VOORSORG Addisionele Bydrae | I25: =VLOOKUP(G25,Syfers!$B$5:$D$66,3,FALSE) -> 0
G26: Lid: ANNUÏTEIT | I26: =VLOOKUP(G26,Syfers!$B$5:$D$66,3,FALSE) -> 0
G27: Lid: PENSIOEN/VOORS Sterftedekking/groepvers. | I27: =VLOOKUP(G27,Syfers!$B$5:$D$66,3,FALSE) -> 0
G28: Lid: MEDIES Premie | I28: =VLOOKUP(G28,Syfers!$B$5:$D$66,3,FALSE) -> 0
G29: Lid: MEDIES Admed | I29: =VLOOKUP(G29,Syfers!$B$5:$D$66,3,FALSE) -> 0
G30: Lid: MEDIES Vitality | I30: =VLOOKUP(G30,Syfers!$B$5:$D$66,3,FALSE) -> 0
G31: =+Syfers!B55 -> LBS op bonus | I31: =VLOOKUP(G31,Syfers!$B$5:$D$66,3,FALSE) -> 0
G32: =+Syfers!B56 -> Add WVF op bonus | I32: =VLOOKUP(G32,Syfers!$B$5:$D$66,3,FALSE) -> 0
G33: =+Syfers!B57 -> Ander: x | I33: =VLOOKUP(G33,Syfers!$B$5:$D$66,3,FALSE) -> 0
B34: Totale Ontvangstes | D34: =SUM(D20:D33) -> 0 | G34: Totale Aftrekkings | I34: =SUM(I20:I33) -> 0
A36: TOTALE KOSTE VIR WG (met WVF) | D36: =+D17+D34 -> 0 | F36: NETTO SALARIS: | I36: =+D34-I34 -> 0
A40: VERLOF: Gewone | F40: VERLOF: Siekte
B41: ALLOKASIE pj | G41: ALLOKASIE per 3 jaar siklus
B43: Verlofbeginsaldo o/d v vorige maand | G43: [Verlof word vooruit ontvang vir 3 jaar siklus]
B44: + Verlof pm (pro-rata allokasie) | D44: =+D41/12 -> 0 | G44: Verlofbeginsaldo o/d v vorige maand
B45: - Verlof geneem | G45: - Verlof geneem
B46: = Verlof beskikbaar (einde van maand) | D46: =+D43+D44-D45 -> 0 | G46: = Verlof beskikbaar (einde van maand) | I46: =+I44-I45 -> 0
B48: Beplande verlof (vooruit) | G48: Einde van 3 jaar siklus (datum):

Sheet IRP5-opsomming pm
A1: IRP-5 KODES (GESELEKTEERD) - Opsomming van huidige maand: | E1: < Tik in maand en jaar
A3: Bewaar of druk data en/of dra oor na IRP5 opsommingsblad vir 6 en 12 maande SARS rekonsiliasie
D5: Bevat formules
A6: Beskrywing (kode beskrywings in Engels) | C6: Kode | D6: R-bedrag
A8: INCOME RECEIVED
A9: Income (PAYE) | C9: 3601 | D9: =SUM(D10:D11) -> 0
B10: Salaris | C10: 3601 | D10: =+Belasting!E6+Belasting!E7 -> 0
B11: Huistoelaag | C11: 3601 | D11: =+Belasting!E8 -> 0
A13: Annual Payment (PAYE) | C13: 3605 | D13: =SUM(D14) -> 0
B14: Jaarlikse bonus | C14: 3605 | E14: [Nie van toepassing, reeds by gewone inkomste belas pm]
A16: Travel Allowance (PAYE) | C16: 3701 | D16: =SUM(D17) -> 0
B17: Reis | C17: 3701 | D17: =+Belasting!C9 -> 0 | E17: Volle waarde
A19: Reimbursive Travel Allowance (Excl) | C19: 3703 | D19: =SUM(D20) -> 0 | E19: 3703 = Diegene wat nie 'n reistoelaag ontvang, maar ad hoc reiseise doen = nie belasbaar
B20: Reis (reïmbursive) | C20: 3703 | E20: << Tik in soos nodig
A22: Other Allowances (PAYE) | C22: 3713 | D22: =SUM(D23) -> 0
B23: Ander toelae (bv tel; water en ligte) | C23: 3713 | D23: =+Belasting!E10 -> 0
A25: General Fringe Benefits | C25: 3801 | D25: =SUM(D26:D30) -> 0 | E25: Byvoordeel
B26: Sterftedek/Groepversekering (Werkgewer) | C26: 3801 | D26: =+Belasting!E19 -> 0
B27: Admedgap (Werkgewer) | C27: 3801 | D27: =+Belasting!E21 -> 0
B28: Vitality (Werkgewer) | C28: 3801 | D28: =+Belasting!E22 -> 0
B29: Ongeskiktheidsdekking (ing pensioen Werkg) | C29: 3801 | D29: =+Belasting!E23 -> 0 | E29: [Uitgehaal by WG pensioenbydrae]
B30: Ander: | C30: 3801
A32: Right of use of motor vehicle | C32: 3802 | D32: =SUM(D33) -> 0 | E32: Byvoordeel
B33: Werksmotor vir Privaat & Werk | D33: =+Belasting!E14 -> 0
A35: Free or cheap accommodation | C35: 3805 | D35: =SUM(D36) -> 0 | E35: Byvoordeel
B36: Gratis huisvesting (pastorie) | D36: =+Belasting!E13 -> 0
A38: Employee's debt | C38: 3808 | D38: =SUM(D39:D39) -> 0 | E38: Byvoordeel
C39: 3808
A41: Company Contribution Medical Aid (PAYE) | C41: 3810 | D41: =SUM(D42) -> 0 | E41: Byvoordeel
B42: Mediese premies (Werkgewer) | C42: 3810 | D42: =+Belasting!E20 -> 0 | E42: [nvt lidbydrae by pakket …]
A44: Fringe Benefit iro Employer-paid contribution to a Pension Fund | C44: 3817 | D44: =SUM(D45) -> 0 | E44: Byvoordeel
B45: Pensioenbydrae (Werkgewer) - goedgekeur* | C45: 3817 | D45: =+Belasting!E17 -> 0
A47: Fringe Benefit iro Employer-paid contribution to a Provident Fund | C47: 3825 | D47: =SUM(D48) -> 0 | E47: Byvoordeel
B48: Voorsorgfondsbydrae (Werkgewer) - goedgekeur* | C48: 3825 | D48: =+Belasting!E18 -> 0
A50: Fringe Benefit iro Employer-paid contribution to a RA Fund | C50: 3828 | D50: =SUM(D51) -> 0 | E50: Byvoordeel
B51: Annuïteitsbydrae (Werkgewer) | C51: 3828
B54: Totale Inkomste en byvoordele | C54: * | D54: =+D9+D13+D16+D19+D22+D25+D32+D35+D38+D41+D44+D47+D50 -> 0
A56: Gross Non-Taxable Income | C56: 3696 | D56: =+D19 -> 0
A57: Gross Employment income (taxable) | C57: 3699 | D57: =+D54-D56 -> 0
C58: * | D58: =SUM(D56:D57) -> 0
...
